Workbook
Name A2838a4300: [1]Ministres!#REF!
Name a440.: [1]Ministres!#REF!
Name somme: #REF!

Sheet GLOBAL Ministres 
A2: Tableau 3 - Estimation des recettes sur base des droits constatés - Budget 2027 initial
A3: Ministre ordonnateur | B3: Administration | C3: Décret | F3: Fonds SAP | G3: SEC | I3: AB | K3: AB créés hors processus budgétaire | N3: Libellé de l'adresse budgétaire | O3: Recettes imputées sur base des droits constatés (Décret "WBFin") | T3: Budget initial 2026 | U3: Variations | V3: Budget initial 2027
C4: Titre | D4: Secteur | E4: Division | I4: Compte budgétaire | J4: Domaine fonctionnel | K4: Hors processus budgétaire | L4: Exercice | M4: Date création
G6: 1-2 Sec | H6: 3-4 Sec | O6: 2021 | P6: 2022 | Q6: 2023 | R6: 2024 | S6: 2025 | X6: Code SEC | Y6: Vérif. code SEC
A7: (1) | B7: (2) | C7: (3) | D7: (4) | E7: (5) | F7: (6) | G7: (7) | H7: (8) | I7: (9) | J7: (10) | N7: (11) | O7: (12) | P7: (13) | Q7: (14) | R7: (15) | S7: (16) | T7: (17) | U7: (18) | V7: (19)
A9: DO | B9: F | C9: 1 | D9: 1 | E9: 19 | F9: 1000 | G9: 16 | H9: 11 | I9: 91611000 | J9: 901.276 | K9: oui | L9: 2025 | M9: 45665 | N9: Taxes - frais à refacturer aux entreprises | S9: 39431.84 | T9: 315 | U9: =V9-T9 -> -315 | X9: =G9&"."&H9 -> 16.11 | Y9: =COUNTIF('Codes SEC'!$B$2:$F$460,X9)>0 -> TRUE
A10: DO | B10: F | C10: 1 | D10: 1 | E10: 19 | F10: 1000 | G10: 16 | H10: 12 | I10: 91612000 | J10: 901.277 | K10: oui | L10: 2025 | M10: 45665 | N10: Taxes - frais à refacturer aux ménages | S10: 1448451.2 | T10: 1185 | U10: =V10-T10 -> -1185 | X10: =G10&"."&H10 -> 16.12 | Y10: =COUNTIF('Codes SEC'!$B$2:$F$460,X10)>0 -> TRUE
A11: DO | B11: F | C11: 1 | D11: 1 | E11: 19 | F11: 1000 | G11: 26 | H11: 10 | I11: 92610000 | J11: 901.220 | K11: oui | L11: 2023 | M11: 44991 | N11: Intérêts de créances fiscales | Q11: 15008535 | R11: 13400569 | S11: 16285515 | T11: 13401 | U11: =V11-T11 -> -13401 | X11: =G11&"."&H11 -> 26.10 | Y11: =COUNTIF('Codes SEC'!$B$2:$F$460,X11)>0 -> TRUE
A12: DO | B12: F | C12: 1 | D12: 1 | E12: 19 | F12: 1000 | G12: 36 | H12: 40 | I12: 93640000 | J12: 901.002 | N12: Droits d'enregistrement sur les transmissions à titre onéreux de biens immeubles | O12: 1.2884958e+09 | P12: 1.3505521e+09 | Q12: 1.1799818e+09 | R12: 1.2037085e+09 | S12: 9.5953618e+08 | T12: 959263 | U12: =V12-T12 -> -959263 | X12: =G12&"."&H12 -> 36.40 | Y12: =COUNTIF('Codes SEC'!$B$2:$F$460,X12)>0 -> TRUE
A13: DO | B13: F | C13: 1 | D13: 1 | E13: 19 | F13: 1000 | G13: 36 | H13: 40 | I13: 93640000 | J13: 901.003 | N13: Droits d'enregistrement sur la constitution d'une hypothèque sur un bien immeuble situé en Belgique | O13: 1.0027409e+08 | P13: 96264779 | Q13: 74037052 | R13: 72972559 | S13: 94058860 | T13: 94316 | U13: =V13-T13 -> -94316 | X13: =G13&"."&H13 -> 36.40 | Y13: =COUNTIF('Codes SEC'!$B$2:$F$460,X13)>0 -> TRUE
A14: DO | B14: F | C14: 1 | D14: 1 | E14: 19 | F14: 1000 | G14: 36 | H14: 40 | I14: 93640000 | J14: 901.004 | N14: Droits d'enregistrement sur les partages partiels ou totaux de biens immeubles situés en Belgique, les cessions à titre onéreux entre copropriétaires, de parties indivises de tels biens | O14: 25993413 | P14: 31036087 | Q14: 26788825 | R14: 26572068 | S14: 28174618 | T14: 39687 | U14: =V14-T14 -> -39687 | X14: =G14&"."&H14 -> 36.40 | Y14: =COUNTIF('Codes SEC'!$B$2:$F$460,X14)>0 -> TRUE
A15: DO | B15: F | C15: 1 | D15: 1 | E15: 19 | F15: 1000 | G15: 36 | H15: 40 | I15: 93640000 | J15: 901.005 | N15: Droits d'enregistrement sur les donations entre vifs de biens meubles ou immeubles | O15: 1.45071e+08 | P15: 1.6825791e+08 | Q15: 1.4366882e+08 | R15: 1.6692625e+08 | S15: 1.6858218e+08 | T15: 166935 | U15: =V15-T15 -> -166935 | X15: =G15&"."&H15 -> 36.40 | Y15: =COUNTIF('Codes SEC'!$B$2:$F$460,X15)>0 -> TRUE
A16: DO | B16: F | C16: 1 | D16: 1 | E16: 19 | F16: 1000 | G16: 36 | H16: 80 | I16: 93680000 | J16: 901.008 | N16: Taxes sur les logements abandonnés | O16: 0 | P16: 0 | Q16: 0 | R16: 0 | S16: 0 | T16: 0 | U16: =V16-T16 -> 0 | X16: =G16&"."&H16 -> 36.80 | Y16: =COUNTIF('Codes SEC'!$B$2:$F$460,X16)>0 -> TRUE
A17: DO | B17: F | C17: 1 | D17: 1 | E17: 19 | F17: 1000 | G17: 36 | H17: 90 | I17: 93690000 | J17: 901.009 | N17: Taxe sur les jeux et paris | O17: 40020175 | P17: 43246320 | Q17: 43794700 | R17: 57949254 | S17: 61578855 | T17: 61400 | U17: =V17-T17 -> -61400 | X17: =G17&"."&H17 -> 36.90 | Y17: =COUNTIF('Codes SEC'!$B$2:$F$460,X17)>0 -> TRUE
A18: DO | B18: F | C18: 1 | D18: 1 | E18: 19 | F18: 1000 | G18: 36 | H18: 90 | I18: 93690000 | J18: 901.010 | N18: Taxe sur les appareils automatiques de divertissement | O18: 1040.31 | P18: 32678922 | Q18: 17383321 | R18: 22210332 | S18: 20992759 | T18: 20000 | U18: =V18-T18 -> -20000 | X18: =G18&"."&H18 -> 36.90 | Y18: =COUNTIF('Codes SEC'!$B$2:$F$460,X18)>0 -> TRUE
A19: DO | B19: F | C19: 1 | D19: 1 | E19: 19 | F19: 1000 | G19: 36 | H19: 90 | I19: 93690000 | J19: 901.011 | N19: Taxe d'ouverture des débits de boissons fermentées | O19: 0 | P19: 250 | Q19: 250 | R19: 0 | S19: 5265.73 | T19: 0 | U19: =V19-T19 -> 0 | X19: =G19&"."&H19 -> 36.90 | Y19: =COUNTIF('Codes SEC'!$B$2:$F$460,X19)>0 -> TRUE
A20: DO | B20: F | C20: 1 | D20: 1 | E20: 19 | F20: 1000 | G20: 36 | H20: 90 | I20: 93690000 | J20: 901.012 | N20: Redevance radio et télévision | O20: 3149966.2 | P20: 0 | Q20: 0 | R20: 2100 | S20: 284.54 | T20: 0 | U20: =V20-T20 -> 0 | X20: =G20&"."&H20 -> 36.90 | Y20: =COUNTIF('Codes SEC'!$B$2:$F$460,X20)>0 -> TRUE
A21: DO | B21: F | C21: 1 | D21: 1 | E21: 19 | F21: 1000 | G21: 36 | H21: 90 | I21: 93690000 | J21: 901.013 | N21: Taxes sur les automates | O21: 22672930 | P21: 19265828 | Q21: 17473778 | R21: 18135900 | S21: 18154910 | T21: 17500 | U21: =V21-T21 -> -17500 | X21: =G21&"."&H21 -> 36.90 | Y21: =COUNTIF('Codes SEC'!$B$2:$F$460,X21)>0 -> TRUE
A22: DO | B22: F | C22: 1 | D22: 1 | E22: 19 | F22: 1000 | G22: 37 | H22: 20 | I22: 93720000 | J22: 901.014 | N22: Précompte immobilier | O22: 36523639 | P22: 42140787 | Q22: 46470264 | R22: 49048324 | S22: 51203884 | T22: 51516 | U22: =V22-T22 -> -51516 | X22: =G22&"."&H22 -> 37.20 | Y22: =COUNTIF('Codes SEC'!$B$2:$F$460,X22)>0 -> TRUE
A23: DO | B23: F | C23: 1 | D23: 1 | E23: 19 | F23: 1000 | G23: 38 | H23: 50 | I23: 93850000 | J23: 901.015 | N23: Amendes aux ménages relatives aux taxes et impôts régionaux | O23: 28220275 | P23: 14997484 | Q23: 4269271.2 | R23: 3712720.5 | S23: 4231083.5 | T23: 3000 | U23: =V23-T23 -> -3000 | X23: =G23&"."&H23 -> 38.50 | Y23: =COUNTIF('Codes SEC'!$B$2:$F$460,X23)>0 -> TRUE
... A25: DO | B25: SG | C25: 1 | D25: 2 | E25: 10 | F25: 1000 | G25: 16 | H25: 12 | I25: 91612000 | J25: 901.017 | N25: Produit d'études et vente de publications dans le domaine des statistiques | O25: 0 | P25: 0 | Q25: 0 | R25: 24 | S25: 0 | T25: 0 | U25: =V25-T25 -> 0 | X25: =G25&"."&H25 -> 16.12 | Y25: =COUNTIF('Codes SEC'!$B$2:$F$460,X25)>0 -> TRUE
A26: DO | B26: SG | C26: 1 | D26: 2 | E26: 10 | F26: 1000 | G26: 16 | H26: 12 | I26: 91612000 | J26: 901.018 | N26: Frais d'inscription à des manifestations organisées par la Région | O26: 0 | P26: 0 | Q26: 0 | S26: 0 | T26: 0 | U26: =V26-T26 -> 0 | X26: =G26&"."&H26 -> 16.12 | Y26: =COUNTIF('Codes SEC'!$B$2:$F$460,X26)>0 -> TRUE
A27: DO | B27: SG | C27: 1 | D27: 2 | E27: 10 | F27: 1000 | G27: 16 | H27: 12 | I27: 91612000 | J27: 901.128 | N27: Ventes de biens non durables et de services par le secteur des administrations publiques aux ménages et ASBL au service des ménages - Cofinancements européens | O27: 406487.79 | P27: 82480.04 | Q27: 473241.72 | R27: 0 | S27: 0 | T27: 0 | U27: =V27-T27 -> 0 | X27: =G27&"."&H27 -> 16.12 | Y27: =COUNTIF('Codes SEC'!$B$2:$F$460,X27)>0 -> TRUE
A28: DO | B28: SG | C28: 1 | D28: 2 | E28: 10 | F28: 1000 | G28: 16 | H28: 20 | I28: 91620000 | J28: 901.129 | N28: Ventes de biens non durables et de services d’une unité du secteur public à une autre unité du secteur public - Cofinancements européens | O28: 115851.44 | P28: 17403.45 | Q28: 229213.85 | R28: 0 | S28: 0 | T28: 0 | U28: =V28-T28 -> 0 | X28: =G28&"."&H28 -> 16.20 | Y28: =COUNTIF('Codes SEC'!$B$2:$F$460,X28)>0 -> TRUE
A29: DO | B29: SG | C29: 1 | D29: 2 | E29: 10 | F29: 1000 | G29: 39 | H29: 10 | I29: 93910000 | J29: 901.177 | N29: Transferts de revenus dans le cadre de dépenses préfinancées par l'entité (FRR) | P29: 1557.03 | Q29: 983.32 | R29: 0 | S29: 0 | T29: 0 | U29: =V29-T29 -> 0 | X29: =G29&"."&H29 -> 39.10 | Y29: =COUNTIF('Codes SEC'!$B$2:$F$460,X29)>0 -> TRUE
A30: DO | B30: SG | C30: 1 | D30: 2 | E30: 10 | F30: 2001 | G30: 49 | H30: 24 | I30: 94924000 | J30: 905.001 | N30: (Supprimé) Fonds budgétaire en matière de Loterie (recettes affectées au Fonds budgétaire en matière de Loterie : AB 030.001, programme 10.030 , division organique 10) | O30: 2306166.8 | P30: 3418558.8 | Q30: 4579150.6 | R30: 4448115.8 | S30: 4651980.5 | T30: 0 | U30: =V30-T30 -> 0 | X30: =G30&"."&H30 -> 49.24 | Y30: =COUNTIF('Codes SEC'!$B$2:$F$460,X30)>0 -> TRUE
A31: DO | B31: SG | C31: 1 | D31: 2 | E31: 10 | F31: 1000 | G31: 49 | H31: 24 | I31: 94924000 | J31: 901.283 | N31: Recettes en provenance de la Fédération Wallonie-Bruxelles dans le cadre de la loterie nationale | S31: 0 | T31: 3995 | U31: =V31-T31 -> -3995
A32: DO | B32: ARNE | C32: 1 | D32: 2 | E32: 15 | F32: 1000 | G32: 16 | H32: 12 | I32: 91612000 | J32: 901.250 | N32: Prestations pour l'identification et l'enregistrement des chiens et des chats | Q32: 0 | R32: 186836 | S32: 178160 | T32: 240 | U32: =V32-T32 -> -240 | X32: =G32&"."&H32 -> 16.12 | Y32: =COUNTIF('Codes SEC'!$B$2:$F$460,X32)>0 -> TRUE
A33: DO | B33: ARNE | C33: 1 | D33: 2 | E33: 15 | F33: 1000 | G33: 38 | H33: 50 | I33: 93850000 | J33: 901.247 | N33: Redevances liées au bien-être animal | Q33: 0 | R33: 85444.04 | S33: 34720 | T33: 40 | U33: =V33-T33 -> -40 | X33: =G33&"."&H33 -> 38.50 | Y33: =COUNTIF('Codes SEC'!$B$2:$F$460,X33)>0 -> TRUE
A34: DO | B34: ARNE | C34: 1 | D34: 2 | E34: 15 | F34: 1000 | G34: 38 | H34: 50 | I34: 93850000 | J34: 901.248 | N34: Amendes administratives perçues en application des dispositions de la loi du 14 août 1986 relative à la protection et au Bien-être des animaux et de ses arrêtés d’exécution | Q34: 0 | R34: 83145.91 | S34: 67636.98 | T34: 60 | U34: =V34-T34 -> -60 | X34: =G34&"."&H34 -> 38.50 | Y34: =COUNTIF('Codes SEC'!$B$2:$F$460,X34)>0 -> TRUE
A35: DO | B35: ARNE | C35: 1 | D35: 2 | E35: 15 | F35: 1000 | G35: 38 | H35: 50 | I35: 93850000 | J35: 901.249 | N35: Remboursement des frais de saisies dans le cadre du bien-être animal | Q35: 0 | R35: 39043.04 | S35: 170354.72 | T35: 240 | U35: =V35-T35 -> -240 | X35: =G35&"."&H35 -> 38.50 | Y35: =COUNTIF('Codes SEC'!$B$2:$F$460,X35)>0 -> TRUE
A36: DO | B36: ARNE | C36: 1 | D36: 2 | E36: 15 | F36: 1000 | G36: 38 | H36: 50 | I36: 93850000 | J36: 901.251 | N36: Divers dons et legs au Fonds du Bien-être animal | Q36: 0 | R36: 0 | S36: 0 | T36: 0 | U36: =V36-T36 -> 0 | X36: =G36&"."&H36 -> 38.50 | Y36: =COUNTIF('Codes SEC'!$B$2:$F$460,X36)>0 -> TRUE
B37: ARNE | C37: 1 | D37: 2 | E37: 15 | F37: 2011 | G37: 38 | H37: 50 | I37: 93850000 | J37: 906.001 | N37: (Supprimé) Redevances (recettes affectées au Fonds budgétaire du Bien-être animal : AB 067.001, programme 15.067, division organique 15) | O37: 37300 | P37: 40755 | Q37: 118331.26 | R37: 0 | S37: 0 | X37: =G37&"."&H37 -> 38.50 | Y37: =COUNTIF('Codes SEC'!$B$2:$F$460,X37)>0 -> TRUE
B38: ARNE | C38: 1 | D38: 2 | E38: 15 | F38: 2011 | G38: 38 | H38: 50 | I38: 93850000 | J38: 906.002 | N38: (Supprimé) Amendes administratives perçues en application des dispositions de la loi du 14 août 1986 relative à la protection et au Bien-être des animaux et de ses arrêtés d’exécution (recettes affectées au Fonds budgétaire du Bien être animal : AB 067.001, programme 15.067, division organique 15) | O38: 41000 | P38: 30305.79 | Q38: 48889.97 | R38: 0 | S38: 0 | X38: =G38&"."&H38 -> 38.50 | Y38: =COUNTIF('Codes SEC'!$B$2:$F$460,X38)>0 -> TRUE
B39: ARNE | C39: 1 | D39: 2 | E39: 15 | F39: 2011 | G39: 38 | H39: 50 | I39: 93850000 | J39: 906.003 | N39: (Supprimé) Remboursement des frais de saisies (recettes affectées au Fonds budgétaire du Bien-être animal : AB 067.001, programme 15.067, division organique 15) | O39: 16105.24 | P39: 0 | Q39: 0 | R39: 0 | S39: 0 | X39: =G39&"."&H39 -> 38.50 | Y39: =COUNTIF('Codes SEC'!$B$2:$F$460,X39)>0 -> TRUE
A40: DO | B40: F | C40: 1 | D40: 2 | E40: 19 | F40: 1000 | G40: 6 | H40: 0 | I40: 90600001 | J40: 901.150 | N40: (Supprimé) Produits divers | O40: 13558490 | P40: 0 | Q40: 0 | R40: 0 | S40: 0 | X40: 06.00 | Y40: =COUNTIF('Codes SEC'!$B$2:$F$460,X40)>0 -> TRUE
A41: DO | B41: F | C41: 1 | D41: 2 | E41: 19 | F41: 1000 | G41: 8 | H41: 20 | I41: 90820001 | J41: 901.259 | K41: oui | L41: 2024 | M41: 45314 | N41: Dettes prescrites fournisseurs | R41: 0 | S41: 0 | T41: 0 | U41: =V41-T41 -> 0 | X41: 08.20 | Y41: =COUNTIF('Codes SEC'!$B$2:$F$460,X41)>0 -> TRUE
A42: DO | B42: F | C42: 1 | D42: 2 | E42: 19 | F42: 1000 | G42: 11 | H42: 11 | I42: 91111000 | J42: 901.026 | N42: Recettes relatives au personnel FWB de la nouvelle CIF | O42: 0 | P42: 0 | Q42: 205145.85 | R42: 21052.39 | S42: 310.62 | T42: 0 | U42: =V42-T42 -> 0 | X42: =G42&"."&H42 -> 11.11 | Y42: =COUNTIF('Codes SEC'!$B$2:$F$460,X42)>0 -> TRUE
A43: DO | B43: F | C43: 1 | D43: 2 | E43: 19 | F43: 1000 | G43: 11 | H43: 20 | I43: 91120000 | J43: 901.229 | K43: oui | L43: 2023 | M43: 45091 | N43: Récupérations de charges sociales | Q43: 0 | R43: 124015.73 | S43: 104626.51 | T43: 0 | U43: =V43-T43 -> 0 | X43: =G43&"."&H43 -> 11.20 | Y43: =COUNTIF('Codes SEC'!$B$2:$F$460,X43)>0 -> TRUE
A44: DO | B44: F | C44: 1 | D44: 2 | E44: 19 | F44: 1000 | G44: 11 | H44: 31 | I44: 91131000 | J44: 901.257 | K44: oui | L44: 2023 | M44: 45274 | N44: Récupérations d'allocations sociales directes | R44: 0 | S44: 0 | T44: 0 | U44: =V44-T44 -> 0 | X44: =G44&"."&H44 -> 11.31 | Y44: =COUNTIF('Codes SEC'!$B$2:$F$460,X44)>0 -> TRUE
...

Sheet Décret
F2: Budget initial des recettes de la Région wallonne pour l'année budgétaire 2027
G3: (en milliers EUR)
B5: Ancien n° AB | D5: Nouveaux n° AB | G5: Estimations initiales
A6: Ministre ordonnateur | B6: Article | D6: Compte budgétaire | E6: Domaine Fonctionnel | F6: DESIGNATION DES PRODUITS | G6: Budget initial 2027
G7: Par article | H7: Total
F10: TITRE I - RECETTES COURANTES
F13: Secteur I - Recettes fiscales
F15: Recettes fiscales spécifiques - Division organique 15 Agriculture, ressources naturelles et environnement
A18: ='GLOBAL Ministres '!A282 -> CO | B18: ='GLOBAL Ministres '!G282 -> 16 | C18: ='GLOBAL Ministres '!H282 -> 11 | D18: ='GLOBAL Ministres '!I282 -> 91611000 | E18: ='GLOBAL Ministres '!J282 -> 902.010 | F18: ='GLOBAL Ministres '!N282 -> Taxes sur le déversement des eaux usées, sur les charges environnementales et sur les prélèvements d'eau souterraine potabilisable, redevances et contributions de prélèvement sur les prises d'eau perçues en vertu du Code de l'eau - Frais à refacturer (recettes affectées au Fonds pour la protection de l'Environnement, section protection des eaux : AB 075.001, programme 15.075, division organique 15) | G18: ='GLOBAL Ministres '!V282 -> 0
A19: ='GLOBAL Ministres '!A283 -> CO | B19: ='GLOBAL Ministres '!G283 -> 16 | C19: ='GLOBAL Ministres '!H283 -> 11 | D19: ='GLOBAL Ministres '!I283 -> 91611000 | E19: ='GLOBAL Ministres '!J283 -> 903.014 | F19: ='GLOBAL Ministres '!N283 -> Taxes et redevances perçues en matière de déchets en vertu du décret du 22 mars 2007, y compris une taxe sur la co-incinération - Frais à refacturer (recettes affectées au Fonds pour la gestion des déchets : AB 077.001, programme 15.077, division organique 15) | G19: ='GLOBAL Ministres '!V283 -> 0
A20: ='GLOBAL Ministres '!A284 -> CO | B20: ='GLOBAL Ministres '!G284 -> 26 | C20: ='GLOBAL Ministres '!H284 -> 10 | D20: ='GLOBAL Ministres '!I284 -> 92610000 | E20: ='GLOBAL Ministres '!J284 -> 902.011 | F20: ='GLOBAL Ministres '!N284 -> Taxes sur le déversement des eaux usées, sur les charges environnementales et sur les prélèvements d'eau souterraine potabilisable, redevances et contributions de prélèvement sur les prises d'eau perçues en vertu du Code de l'eau - Intérêts de créances fiscales (recettes affectées au Fonds pour la protection de l'Environnement, section protection des eaux : AB 075.001, programme 15.075, division organique 15) | G20: ='GLOBAL Ministres '!V284 -> 0
A21: ='GLOBAL Ministres '!A285 -> CO | B21: ='GLOBAL Ministres '!G285 -> 26 | C21: ='GLOBAL Ministres '!H285 -> 10 | D21: ='GLOBAL Ministres '!I285 -> 92610000 | E21: ='GLOBAL Ministres '!J285 -> 903.015 | F21: ='GLOBAL Ministres '!N285 -> Taxes et redevances perçues en matière de déchets en vertu du décret du 22 mars 2007, y compris une taxe sur la co-incinération - Intérêts de créances fiscales (recettes affectées au Fonds pour la gestion des déchets : AB 077.001, programme 15.077, division organique 15) | G21: ='GLOBAL Ministres '!V285 -> 0
A22: ='GLOBAL Ministres '!A286 -> CO | B22: ='GLOBAL Ministres '!G286 -> 36 | C22: ='GLOBAL Ministres '!H286 -> 70 | D22: ='GLOBAL Ministres '!I286 -> 93670000 | E22: ='GLOBAL Ministres '!J286 -> 902.001 | F22: ='GLOBAL Ministres '!N286 -> Taxes sur le déversement des eaux usées, sur les charges environnementales et sur les prélèvements d'eau souterraine potabilisable, redevances et contributions de prélèvement sur les prises d'eau perçues en vertu du Code de l'eau (recettes affectées au Fonds pour la protection de l'Environnement, section protection des eaux : AB 075.001, programme 15.075, division organique 15) | G22: ='GLOBAL Ministres '!V286 -> 0
A23: ='GLOBAL Ministres '!A287 -> CO | B23: ='GLOBAL Ministres '!G287 -> 36 | C23: ='GLOBAL Ministres '!H287 -> 70 | D23: ='GLOBAL Ministres '!I287 -> 93670000 | E23: ='GLOBAL Ministres '!J287 -> 902.002 | F23: ='GLOBAL Ministres '!N287 -> Taxes et redevances perçues en vertu du décret du 11 mars 1999 relatif au permis d'environnement et de l'arrêté du Gouvernement wallon du 4 juillet 2002 relatif à la procédure et à diverses mesures d’exécution du décret du 11 mars 1999 relatif au permis d’environnement (recettes affectées au Fonds pour la protection de l'Environnement : AB 075.001, programme 15.075, division organique 15) | G23: ='GLOBAL Ministres '!V287 -> 0
A24: ='GLOBAL Ministres '!A288 -> CO | B24: ='GLOBAL Ministres '!G288 -> 36 | C24: ='GLOBAL Ministres '!H288 -> 70 | D24: ='GLOBAL Ministres '!I288 -> 93670000 | E24: ='GLOBAL Ministres '!J288 -> 903.001 | F24: ='GLOBAL Ministres '!N288 -> Taxes et redevances perçues en matière de déchets en vertu du décret du 22 mars 2007, y compris une taxe sur la co-incinération - Taxes sur les déchets (recettes affectées au Fonds pour la gestion des déchets : AB 077.001, programme 15.077, division organique 15) | G24: ='GLOBAL Ministres '!V288 -> 0
A25: ='GLOBAL Ministres '!A289 -> CO | B25: ='GLOBAL Ministres '!G289 -> 36 | C25: ='GLOBAL Ministres '!H289 -> 70 | D25: ='GLOBAL Ministres '!I289 -> 93670000 | E25: ='GLOBAL Ministres '!J289 -> 903.002 | F25: ='GLOBAL Ministres '!N289 -> Participations des organismes exécutant des obligations de reprise dans le cadre de la gestion des déchets (recettes affectées au Fonds pour la gestion des déchets : AB 077.001, programme 15.077, division organique 15) | G25: ='GLOBAL Ministres '!V289 -> 0
A26: ='GLOBAL Ministres '!A290 -> CO | B26: ='GLOBAL Ministres '!G290 -> 38 | C26: ='GLOBAL Ministres '!H290 -> 10 | D26: ='GLOBAL Ministres '!I290 -> 93810000 | E26: ='GLOBAL Ministres '!J290 -> 902.012 | F26: ='GLOBAL Ministres '!N290 -> Taxes sur le déversement des eaux usées, sur les charges environnementales et sur les prélèvements d'eau souterraine potabilisable, redevances et contributions de prélèvement sur les prises d'eau perçues en vertu du Code de l'eau - Amendes aux entreprises (recettes affectées au Fonds pour la protection de l'Environnement, section protection des eaux : AB 075.001, programme 15.075, division organique 15) | G26: ='GLOBAL Ministres '!V290 -> 0
A27: ='GLOBAL Ministres '!A291 -> CO | B27: ='GLOBAL Ministres '!G291 -> 38 | C27: ='GLOBAL Ministres '!H291 -> 10 | D27: ='GLOBAL Ministres '!I291 -> 93810000 | E27: ='GLOBAL Ministres '!J291 -> 903.012 | F27: ='GLOBAL Ministres '!N291 -> Taxes et redevances perçues en matière de déchets en vertu du décret du 22 mars 2007, y compris une taxe sur la co-incinération - Amendes aux entreprises (recettes affectées au Fonds pour la gestion des déchets : AB 077.001, programme 15.077, division organique 15) | G27: ='GLOBAL Ministres '!V291 -> 0
A28: ='GLOBAL Ministres '!A309 -> CO | B28: ='GLOBAL Ministres '!G309 -> 38 | C28: ='GLOBAL Ministres '!H309 -> 50 | D28: ='GLOBAL Ministres '!I309 -> 93850000 | E28: ='GLOBAL Ministres '!J309 -> 902.003 | F28: ='GLOBAL Ministres '!N309 -> Sommes perçues en vertu du décret du 6 mai 2019 relatif à la délinquance environnementale - Ménages (recettes affectées au Fonds pour la protection de l'Environnement : AB 075.001, programme 15.075, division organique 15) | G28: ='GLOBAL Ministres '!V309 -> 0
F30: Total Division organique 15 | H30: =SUM(G18:G28) -> 0
F31: Dont recettes affectées | H31: =G18+G19+G20+G21+G22+G23+G24+G25+G26+G27+G28 -> 0
F33: Recettes fiscales spécifiques - Division organique 16 Aménagement du territoire, logement, patrimoine et énergie
A35: ='GLOBAL Ministres '!A163 -> DE | B35: ='GLOBAL Ministres '!G163 -> 26 | C35: ='GLOBAL Ministres '!H163 -> 10 | D35: ='GLOBAL Ministres '!I163 -> 92610000 | E35: ='GLOBAL Ministres '!J163 -> 901.265 | F35: ='GLOBAL Ministres '!N163 -> Taxes sur les sites d’activité économique désaffectés - Intérêts de créances fiscales | G35: ='GLOBAL Ministres '!V163 -> 0
F37: Total Division organique 16 | H37: =G35 -> 0
F38: Dont recettes affectées | H38: 0
F40: Recettes fiscales générales - Division organique 19 Finances
A42: ='GLOBAL Ministres '!A9 -> DO | B42: ='GLOBAL Ministres '!G9 -> 16 | C42: ='GLOBAL Ministres '!H9 -> 11 | D42: ='GLOBAL Ministres '!I9 -> 91611000 | E42: ='GLOBAL Ministres '!J9 -> 901.276 | F42: ='GLOBAL Ministres '!N9 -> Taxes - frais à refacturer aux entreprises | G42: ='GLOBAL Ministres '!V9 -> 0
A43: ='GLOBAL Ministres '!A10 -> DO | B43: ='GLOBAL Ministres '!G10 -> 16 | C43: ='GLOBAL Ministres '!H10 -> 12 | D43: ='GLOBAL Ministres '!I10 -> 91612000 | E43: ='GLOBAL Ministres '!J10 -> 901.277 | F43: ='GLOBAL Ministres '!N10 -> Taxes - frais à refacturer aux ménages | G43: ='GLOBAL Ministres '!V10 -> 0
A44: ='GLOBAL Ministres '!A11 -> DO | B44: ='GLOBAL Ministres '!G11 -> 26 | C44: ='GLOBAL Ministres '!H11 -> 10 | D44: ='GLOBAL Ministres '!I11 -> 92610000 | E44: ='GLOBAL Ministres '!J11 -> 901.220 | F44: ='GLOBAL Ministres '!N11 -> Intérêts de créances fiscales | G44: ='GLOBAL Ministres '!V11 -> 0
A45: ='GLOBAL Ministres '!A12 -> DO | B45: ='GLOBAL Ministres '!G12 -> 36 | C45: ='GLOBAL Ministres '!H12 -> 40 | D45: ='GLOBAL Ministres '!I12 -> 93640000 | E45: ='GLOBAL Ministres '!J12 -> 901.002 | F45: ='GLOBAL Ministres '!N12 -> Droits d'enregistrement sur les transmissions à titre onéreux de biens immeubles | G45: ='GLOBAL Ministres '!V12 -> 0
A46: ='GLOBAL Ministres '!A13 -> DO | B46: ='GLOBAL Ministres '!G13 -> 36 | C46: ='GLOBAL Ministres '!H13 -> 40 | D46: ='GLOBAL Ministres '!I13 -> 93640000 | E46: ='GLOBAL Ministres '!J13 -> 901.003 | F46: ='GLOBAL Ministres '!N13 -> Droits d'enregistrement sur la constitution d'une hypothèque sur un bien immeuble situé en Belgique | G46: ='GLOBAL Ministres '!V13 -> 0
A47: ='GLOBAL Ministres '!A14 -> DO | B47: ='GLOBAL Ministres '!G14 -> 36 | C47: ='GLOBAL Ministres '!H14 -> 40 | D47: ='GLOBAL Ministres '!I14 -> 93640000 | E47: ='GLOBAL Ministres '!J14 -> 901.004 | F47: ='GLOBAL Ministres '!N14 -> Droits d'enregistrement sur les partages partiels ou totaux de biens immeubles situés en Belgique, les cessions à titre onéreux entre copropriétaires, de parties indivises de tels biens | G47: ='GLOBAL Ministres '!V14 -> 0
A48: ='GLOBAL Ministres '!A15 -> DO | B48: ='GLOBAL Ministres '!G15 -> 36 | C48: ='GLOBAL Ministres '!H15 -> 40 | D48: ='GLOBAL Ministres '!I15 -> 93640000 | E48: ='GLOBAL Ministres '!J15 -> 901.005 | F48: ='GLOBAL Ministres '!N15 -> Droits d'enregistrement sur les donations entre vifs de biens meubles ou immeubles | G48: ='GLOBAL Ministres '!V15 -> 0
A49: ='GLOBAL Ministres '!A167 -> DE | B49: ='GLOBAL Ministres '!G167 -> 36 | C49: ='GLOBAL Ministres '!H167 -> 60 | D49: ='GLOBAL Ministres '!I167 -> 93660000 | E49: ='GLOBAL Ministres '!J167 -> 901.006 | F49: ='GLOBAL Ministres '!N167 -> Taxe de circulation sur les véhicules automobiles | G49: ='GLOBAL Ministres '!V167 -> 0
A50: ='GLOBAL Ministres '!A168 -> DE | B50: ='GLOBAL Ministres '!G168 -> 36 | C50: ='GLOBAL Ministres '!H168 -> 60 | D50: ='GLOBAL Ministres '!I168 -> 93660000 | E50: ='GLOBAL Ministres '!J168 -> 901.007 | F50: ='GLOBAL Ministres '!N168 -> Taxe de mise en circulation (y compris eco-malus) | G50: ='GLOBAL Ministres '!V168 -> 0
A51: ='GLOBAL Ministres '!A16 -> DO | B51: ='GLOBAL Ministres '!G16 -> 36 | C51: ='GLOBAL Ministres '!H16 -> 80 | D51: ='GLOBAL Ministres '!I16 -> 93680000 | E51: ='GLOBAL Ministres '!J16 -> 901.008 | F51: ='GLOBAL Ministres '!N16 -> Taxes sur les logements abandonnés | G51: ='GLOBAL Ministres '!V16 -> 0
A52: ='GLOBAL Ministres '!A17 -> DO | B52: ='GLOBAL Ministres '!G17 -> 36 | C52: ='GLOBAL Ministres '!H17 -> 90 | D52: ='GLOBAL Ministres '!I17 -> 93690000 | E52: ='GLOBAL Ministres '!J17 -> 901.009 | F52: ='GLOBAL Ministres '!N17 -> Taxe sur les jeux et paris | G52: ='GLOBAL Ministres '!V17 -> 0
A53: ='GLOBAL Ministres '!A18 -> DO | B53: ='GLOBAL Ministres '!G18 -> 36 | C53: ='GLOBAL Ministres '!H18 -> 90 | D53: ='GLOBAL Ministres '!I18 -> 93690000 | E53: ='GLOBAL Ministres '!J18 -> 901.010 | F53: ='GLOBAL Ministres '!N18 -> Taxe sur les appareils automatiques de divertissement | G53: ='GLOBAL Ministres '!V18 -> 0
A54: ='GLOBAL Ministres '!A19 -> DO | B54: ='GLOBAL Ministres '!G19 -> 36 | C54: ='GLOBAL Ministres '!H19 -> 90 | D54: ='GLOBAL Ministres '!I19 -> 93690000 | E54: ='GLOBAL Ministres '!J19 -> 901.011 | F54: ='GLOBAL Ministres '!N19 -> Taxe d'ouverture des débits de boissons fermentées | G54: ='GLOBAL Ministres '!V19 -> 0
A55: ='GLOBAL Ministres '!A20 -> DO | B55: ='GLOBAL Ministres '!G20 -> 36 | C55: ='GLOBAL Ministres '!H20 -> 90 | D55: ='GLOBAL Ministres '!I20 -> 93690000 | E55: ='GLOBAL Ministres '!J20 -> 901.012 | F55: ='GLOBAL Ministres '!N20 -> Redevance radio et télévision | G55: ='GLOBAL Ministres '!V20 -> 0
...

Sheet Fonds
A1: FONDS SAP
A2: Domaine Fonctionnel Dépenses (3 premières positions) | B2: Domaine Fonctionnel Recettes (3 premières positions) | C2: L2 N° Fonds | D2: N° Fonds | E2: L4 Type de fond | F2: DESCRIPTION
G4: 2025 | H4: Variations | I4: 2026 initial
A5: DF Dép | B5: DF Rec | C5: FONDS BUDGETAIRES (dépenses et recettes affectées) | G5: TOTAL Recettes
A6: 030 | B6: 905 | C6: 41 ou 42 | D6: 2001 | E6: FBUD | F6: (Supprimé) Fonds budgétaire en matière de Loterie | G6: ='GLOBAL Ministres '!T30 -> 0 | H6: ='GLOBAL Ministres '!U30 -> 0
A7: 043 | B7: 925 | D7: 2002 | E7: FBUD | F7: (Supprimé) Fonds budgétaire : Fonds de gestion énergétique immobilière
A8: 050 | B8: 912 | D8: 2003 | E8: FBUD | F8: (Modifié) Fonds budgétaire : FISIR | G8: ='GLOBAL Ministres '!T171+'GLOBAL Ministres '!T172+'GLOBAL Ministres '!T177+'GLOBAL Ministres '!T208+'GLOBAL Ministres '!T209 -> 7140 | H8: ='GLOBAL Ministres '!U171+'GLOBAL Ministres '!U172+'GLOBAL Ministres '!U177+'GLOBAL Ministres '!U208+'GLOBAL Ministres '!U209 -> -7140 | I8: ='GLOBAL Ministres '!V171+'GLOBAL Ministres '!V177+'GLOBAL Ministres '!V179+'GLOBAL Ministres '!V189+'GLOBAL Ministres '!V208+'GLOBAL Ministres '!V209+'GLOBAL Ministres '!V215 -> 0
A9: 051 | B9: 908 | D9: 2004 | E9: FBUD | F9: (Supprimé) Fonds budgétaire : Fonds du trafic fluvial | G9: ='GLOBAL Ministres '!T176+'GLOBAL Ministres '!T202+'GLOBAL Ministres '!T203+'GLOBAL Ministres '!T204+'GLOBAL Ministres '!T205 -> 0 | H9: ='GLOBAL Ministres '!U176+'GLOBAL Ministres '!U202+'GLOBAL Ministres '!U203+'GLOBAL Ministres '!U204+'GLOBAL Ministres '!U205 -> 0
A10: 052 | B10: 910 | D10: 2005 | E10: FBUD | F10: (Supprimé) Fonds budgétaire : Fonds du trafic routier | G10: ='GLOBAL Ministres '!#REF!+'GLOBAL Ministres '!#REF!+'GLOBAL Ministres '!T206+'GLOBAL Ministres '!T207+'GLOBAL Ministres '!T212+'GLOBAL Ministres '!T213+'GLOBAL Ministres '!#REF! -> #REF! | H10: ='GLOBAL Ministres '!#REF!+'GLOBAL Ministres '!#REF!+'GLOBAL Ministres '!U206+'GLOBAL Ministres '!U207+'GLOBAL Ministres '!U212+'GLOBAL Ministres '!U213+'GLOBAL Ministres '!#REF! -> #REF!
A11: 053 | B11: 911 | D11: 2006 | E11: FBUD | F11: (Supprimé) Fonds budgétaire : Fonds des infractions routières régionales | G11: ='GLOBAL Ministres '!T214 -> 0 | H11: ='GLOBAL Ministres '!U214 -> 0
A12: 054 | B12: 907 | D12: 2007 | E12: FBUD | F12: (Supprimé) Fonds budgétaire : Fonds des études techniques | G12: ='GLOBAL Ministres '!T180+'GLOBAL Ministres '!T181+'GLOBAL Ministres '!T182+'GLOBAL Ministres '!T183+'GLOBAL Ministres '!T184+'GLOBAL Ministres '!#REF!+'GLOBAL Ministres '!T185+'GLOBAL Ministres '!#REF!+'GLOBAL Ministres '!T190+'GLOBAL Ministres '!#REF!+'GLOBAL Ministres '!T191+'GLOBAL Ministres '!T192+'GLOBAL Ministres '!#REF!+'GLOBAL Ministres '!T193+'GLOBAL Ministres '!T197 -> #REF! | H12: ='GLOBAL Ministres '!U180+'GLOBAL Ministres '!U181+'GLOBAL Ministres '!U182+'GLOBAL Ministres '!U183+'GLOBAL Ministres '!U184+'GLOBAL Ministres '!#REF!+'GLOBAL Ministres '!U185+'GLOBAL Ministres '!#REF!+'GLOBAL Ministres '!U190+'GLOBAL Ministres '!#REF!+'GLOBAL Ministres '!U191+'GLOBAL Ministres '!U192+'GLOBAL Ministres '!#REF!+'GLOBAL Ministres '!U193+'GLOBAL Ministres '!U197 -> #REF!
A13: 055 | B13: 909 | D13: 2008 | E13: FBUD | F13: (Supprimé) Fonds budgétaire : Fonds pour la promotion et le développement de l'activité hippique
A14: 065 | B14: 919 | D14: 2009 | E14: FBUD | F14: Fonds budgétaire : Fonds pour la qualité des produits animaux et végétaux (décret programme du 18 décembre 2003) | G14: ='GLOBAL Ministres '!T410 -> 750 | H14: ='GLOBAL Ministres '!U410 -> -750 | I14: ='GLOBAL Ministres '!V410 -> 0
A15: 066 | B15: 918 | D15: 2010 | E15: FBUD | F15: (Supprimé) Fonds budgétaire : Fonds en matière de S.I.G.E.C
A16: 067 | B16: 906 | D16: 2011 | E16: FBUD | F16: (Supprimé) Fonds budgétaire : Fonds budgétaire du bien-être animal
A17: 068 | B17: 916 | D17: 2012 | E17: FBUD | F17: Fonds budgétaire : Fonds budgétaire en faveur de la gestion piscicole et halieutique en Wallonie | G17: ='GLOBAL Ministres '!T417 -> 1650 | H17: ='GLOBAL Ministres '!U417 -> -1650 | I17: ='GLOBAL Ministres '!V417 -> 0
A18: 069 | B18: 921 | D18: 2013 | E18: FBUD | F18: Fonds budgétaire : Fonds budgétaire de protection de la biodiversité | G18: ='GLOBAL Ministres '!T439 -> 0 | H18: ='GLOBAL Ministres '!U439 -> 0 | I18: ='GLOBAL Ministres '!V439 -> 0
A19: 070 | B19: 913 | D19: 2014 | E19: FBUD | F19: Fonds budgétaire : Fonds pour la gestion des forêts de l'ancienne "Gruerie d'Arlon" (article 7 de la loi domaniale du 26 juillet 1952) | G19: ='GLOBAL Ministres '!T411+'GLOBAL Ministres '!T423+'GLOBAL Ministres '!T428 -> 333 | H19: ='GLOBAL Ministres '!U411+'GLOBAL Ministres '!U423+'GLOBAL Ministres '!U428 -> -333 | I19: ='GLOBAL Ministres '!V411+'GLOBAL Ministres '!V423+'GLOBAL Ministres '!V428 -> 0
A20: 071 | B20: 914 | D20: 2015 | E20: FBUD | F20: Fonds budgétaire : Fonds pour la gestion de la forêt d'Herbeumont (article 1er, 16, de la domaniale du 1er juillet 1983) | G20: ='GLOBAL Ministres '!T412+'GLOBAL Ministres '!T424+'GLOBAL Ministres '!T429 -> 20 | H20: ='GLOBAL Ministres '!U412+'GLOBAL Ministres '!U424+'GLOBAL Ministres '!U429 -> -20 | I20: ='GLOBAL Ministres '!V412+'GLOBAL Ministres '!V424+'GLOBAL Ministres '!V429 -> 0
A21: 072 | B21: 915 | D21: 2016 | E21: FBUD | F21: Fonds budgétaire : Fonds pour la gestion de la forêt de Saint-Michel-Freyr | G21: ='GLOBAL Ministres '!T415+'GLOBAL Ministres '!T421+'GLOBAL Ministres '!T425+'GLOBAL Ministres '!T430+'GLOBAL Ministres '!T440 -> 112 | H21: ='GLOBAL Ministres '!U415+'GLOBAL Ministres '!U421+'GLOBAL Ministres '!U425+'GLOBAL Ministres '!U430+'GLOBAL Ministres '!U440 -> -112 | I21: ='GLOBAL Ministres '!V415+'GLOBAL Ministres '!V421+'GLOBAL Ministres '!V425+'GLOBAL Ministres '!V430+'GLOBAL Ministres '!V440 -> 0
A22: 073 | B22: 917 | D22: 2017 | E22: FBUD | F22: Fonds budgétaire : Fonds en matière de politique foncière agricole | G22: ='GLOBAL Ministres '!T432+'GLOBAL Ministres '!T437+'GLOBAL Ministres '!T445+'GLOBAL Ministres '!#REF!+'GLOBAL Ministres '!T446+'GLOBAL Ministres '!T447 -> #REF! | H22: ='GLOBAL Ministres '!U432+'GLOBAL Ministres '!U437+'GLOBAL Ministres '!U445+'GLOBAL Ministres '!#REF!+'GLOBAL Ministres '!U446+'GLOBAL Ministres '!U447 -> #REF! | I22: ='GLOBAL Ministres '!V432+'GLOBAL Ministres '!V437+'GLOBAL Ministres '!V445+'GLOBAL Ministres '!#REF!+'GLOBAL Ministres '!V446+'GLOBAL Ministres '!V447 -> #REF!
A23: 074 | B23: 920 | D23: 2018 | E23: FBUD | F23: Fonds budgétaire : Fonds wallon "Kyoto" en matière de qualité de l'air et de changements climatiques | G23: ='GLOBAL Ministres '!T373+'GLOBAL Ministres '!T393 -> 158000 | H23: ='GLOBAL Ministres '!U373+'GLOBAL Ministres '!U393 -> -158000 | I23: ='GLOBAL Ministres '!V373+'GLOBAL Ministres '!V393 -> 0
A24: 075 | B24: 902 | D24: 2019 | E24: FBUD | F24: Fonds budgétaire : Fonds pour la protection de l'environnement | G24: ='GLOBAL Ministres '!T282+'GLOBAL Ministres '!T284+'GLOBAL Ministres '!T286+'GLOBAL Ministres '!T287+'GLOBAL Ministres '!T290+'GLOBAL Ministres '!T293+'GLOBAL Ministres '!T296+'GLOBAL Ministres '!T297+'GLOBAL Ministres '!T302+'GLOBAL Ministres '!T303+'GLOBAL Ministres '!T304+'GLOBAL Ministres '!T308+'GLOBAL Ministres '!T309+'GLOBAL Ministres '!T311+'GLOBAL Ministres '!T316+'GLOBAL Ministres '!T317+'GLOBAL Ministres '!#REF!+'GLOBAL Ministres '!T324 -> #REF! | H24: ='GLOBAL Ministres '!U282+'GLOBAL Ministres '!U284+'GLOBAL Ministres '!U286+'GLOBAL Ministres '!U287+'GLOBAL Ministres '!U290+'GLOBAL Ministres '!U293+'GLOBAL Ministres '!U296+'GLOBAL Ministres '!U297+'GLOBAL Ministres '!U302+'GLOBAL Ministres '!U303+'GLOBAL Ministres '!U304+'GLOBAL Ministres '!U308+'GLOBAL Ministres '!U309+'GLOBAL Ministres '!U311+'GLOBAL Ministres '!U316+'GLOBAL Ministres '!U317+'GLOBAL Ministres '!#REF!+'GLOBAL Ministres '!U324 -> #REF! | I24: ='GLOBAL Ministres '!V282+'GLOBAL Ministres '!V284+'GLOBAL Ministres '!V286+'GLOBAL Ministres '!V287+'GLOBAL Ministres '!V290+'GLOBAL Ministres '!V293+'GLOBAL Ministres '!V296+'GLOBAL Ministres '!V297+'GLOBAL Ministres '!V302+'GLOBAL Ministres '!V303+'GLOBAL Ministres '!V304+'GLOBAL Ministres '!V308+'GLOBAL Ministres '!V309+'GLOBAL Ministres '!V311+'GLOBAL Ministres '!V316+'GLOBAL Ministres '!V317+'GLOBAL Ministres '!#REF!+'GLOBAL Ministres '!V324 -> #REF!
A25: 076 | B25: Pas de recettes | D25: 2020 | E25: FBUD | F25: Fonds budgétaire : Fonds de solidarité internationnal pour l'eau
A26: 077 | B26: 903 | D26: 2021 | E26: FBUD | F26: Fonds budgétaire : Fonds pour la gestion des déchets | G26: ='GLOBAL Ministres '!T283+'GLOBAL Ministres '!T285+'GLOBAL Ministres '!T288+'GLOBAL Ministres '!T289+'GLOBAL Ministres '!T291+'GLOBAL Ministres '!T294+'GLOBAL Ministres '!T295+'GLOBAL Ministres '!T299+'GLOBAL Ministres '!T300+'GLOBAL Ministres '!T301+'GLOBAL Ministres '!T305+'GLOBAL Ministres '!T306+'GLOBAL Ministres '!T307+'GLOBAL Ministres '!T310+'GLOBAL Ministres '!T312+'GLOBAL Ministres '!T313+'GLOBAL Ministres '!#REF!+'GLOBAL Ministres '!T318+'GLOBAL Ministres '!T323 -> #REF! | H26: ='GLOBAL Ministres '!U283+'GLOBAL Ministres '!U285+'GLOBAL Ministres '!U288+'GLOBAL Ministres '!U289+'GLOBAL Ministres '!U291+'GLOBAL Ministres '!U294+'GLOBAL Ministres '!U295+'GLOBAL Ministres '!U299+'GLOBAL Ministres '!U300+'GLOBAL Ministres '!U301+'GLOBAL Ministres '!U305+'GLOBAL Ministres '!U306+'GLOBAL Ministres '!U307+'GLOBAL Ministres '!U310+'GLOBAL Ministres '!U312+'GLOBAL Ministres '!U313+'GLOBAL Ministres '!#REF!+'GLOBAL Ministres '!U318+'GLOBAL Ministres '!U323 -> #REF! | I26: ='GLOBAL Ministres '!V283+'GLOBAL Ministres '!V285+'GLOBAL Ministres '!V288+'GLOBAL Ministres '!V289+'GLOBAL Ministres '!V291+'GLOBAL Ministres '!V294+'GLOBAL Ministres '!V295+'GLOBAL Ministres '!V299+'GLOBAL Ministres '!V300+'GLOBAL Ministres '!V301+'GLOBAL Ministres '!V305+'GLOBAL Ministres '!V306+'GLOBAL Ministres '!V307+'GLOBAL Ministres '!V310+'GLOBAL Ministres '!V312+'GLOBAL Ministres '!V313+'GLOBAL Ministres '!#REF!+'GLOBAL Ministres '!V318+'GLOBAL Ministres '!V323+'GLOBAL Ministres '!V314 -> #REF!
A27: 086 | B27: 904 | D27: 2022 | E27: FBUD | F27: (Supprimé) Fonds budgétaire : Fonds des sites à réaménager et des sites de réhabilitation paysagère et environnementale
A28: 087 | B28: 926 | D28: 2023 | E28: FBUD | F28: (Supprimé) Fonds budgétaire : Fonds d'aménagement opérationnel (art. D.V.17 du Code du Développement Territorial)
A29: 088 | B29: 923 | D29: 2024 | E29: FBUD | F29: (Supprimé) Fonds budgétaire : Fonds régional pour le relogement | G29: ='GLOBAL Ministres '!T381+'GLOBAL Ministres '!T387 -> 0 | H29: ='GLOBAL Ministres '!U381+'GLOBAL Ministres '!U387 -> 0 | I29: ='GLOBAL Ministres '!V381+'GLOBAL Ministres '!V387 -> 0
A30: 089 | B30: 924 | D30: 2025 | E30: FBUD | F30: Fonds budgétaire : Fonds Energie | G30: ='GLOBAL Ministres '!T383+'GLOBAL Ministres '!T384+'GLOBAL Ministres '!T388+'GLOBAL Ministres '!T389 -> 11000 | H30: ='GLOBAL Ministres '!U383+'GLOBAL Ministres '!U384+'GLOBAL Ministres '!U388+'GLOBAL Ministres '!U389 -> -11000 | I30: ='GLOBAL Ministres '!V383+'GLOBAL Ministres '!V384+'GLOBAL Ministres '!V388+'GLOBAL Ministres '!V389 -> 0
A31: 090 | B31: 927 | D31: 2026 | E31: FBUD | F31: Fonds budgétaire : Fonds destiné au financement du dispositif Ecopack et Rénopack - Marshall 4.0 - Axe IV - Mesure IV.1.2 | G31: ='GLOBAL Ministres '!T401 -> 72400 | H31: ='GLOBAL Ministres '!U401 -> -72400 | I31: ='GLOBAL Ministres '!V401 -> 0
A32: 116 | B32: Pas de recettes | D32: 2027 | E32: FBUD | F32: (Supprimé) Fonds budgétaire : Fonds de rénovation industrielle (première, deuxième et troisième missions)
A33: 117 | D33: 2028 | E33: FBUD | F33: (Supprimé) Fonds budgétaire : Fonds budgétaire en matière d'emploi
A34: 118 | B34: 928 | D34: 2029 | E34: FBUD | F34: Fonds budgétaire : Fonds destiné au soutien de la Recherche, du développement et de l'innovation | G34: ='GLOBAL Ministres '!#REF!+'GLOBAL Ministres '!#REF!+'GLOBAL Ministres '!#REF!+'GLOBAL Ministres '!#REF!+'GLOBAL Ministres '!#REF!+'GLOBAL Ministres '!#REF!+'GLOBAL Ministres '!#REF!+'GLOBAL Ministres '!#REF!+'GLOBAL Ministres '!#REF!+'GLOBAL Ministres '!#REF!+'GLOBAL Ministres '!#REF! -> #REF! | H34: ='GLOBAL Ministres '!#REF!+'GLOBAL Ministres '!#REF!+'GLOBAL Ministres '!#REF!+'GLOBAL Ministres '!#REF!+'GLOBAL Ministres '!#REF!+'GLOBAL Ministres '!#REF!+'GLOBAL Ministres '!#REF!+'GLOBAL Ministres '!#REF!+'GLOBAL Ministres '!#REF!+'GLOBAL Ministres '!#REF!+'GLOBAL Ministres '!#REF! -> #REF! | I34: ='GLOBAL Ministres '!#REF!+'GLOBAL Ministres '!#REF!+'GLOBAL Ministres '!#REF!+'GLOBAL Ministres '!#REF!+'GLOBAL Ministres '!#REF!+'GLOBAL Ministres '!#REF!+'GLOBAL Ministres '!#REF!+'GLOBAL Ministres '!#REF!+'GLOBAL Ministres '!#REF!+'GLOBAL Ministres '!#REF!+'GLOBAL Ministres '!#REF! -> #REF!
C35: TOTAL | G35: =SUM(G6:G34) -> #REF! | H35: =SUM(H6:H34) -> #REF! | I35: =SUM(I6:I34) -> #REF!
A36: DF Dép | B36: DF Rec | C36: SECTION PARTICULIERE (dépenses et recettes)
A37: 899001 | B37: 899001 | C37: 43 ou 44 | D37: 3001 | E37: SPAR | F37: Fonds destiné à la réalisation de programmes particuliers financés par le F.E.D.E.R. (Programmation 2014-2020) | G37: ='GLOBAL Ministres '!T143 -> 250 | H37: ='GLOBAL Ministres '!U143 -> -250 | I37: ='GLOBAL Ministres '!V143 -> 0
A38: 899002 | B38: 899002 | D38: 3002 | E38: SPAR | F38: Fonds destiné à la réalisation de programmes particuliers financés par le F.S.E. (Programmation 2014-2020) | G38: ='GLOBAL Ministres '!T144 -> 0 | H38: ='GLOBAL Ministres '!U144 -> 0 | I38: ='GLOBAL Ministres '!V144 -> 0
A39: 899003 | B39: 899003 | D39: 3003 | E39: SPAR | F39: Fonds destiné à la réalisation de programmes particuliers financés par le FEAMPA (Programmation 2014-2020) | G39: ='GLOBAL Ministres '!T145 -> 0 | H39: ='GLOBAL Ministres '!U145 -> 0 | I39: ='GLOBAL Ministres '!V145 -> 0
A40: 899004 | B40: 899004 | D40: 3004 | E40: SPAR | F40: Fonds destiné à la réalisation de programmes particuliers financés par LIFE (Programmation 2014-2020) | G40: ='GLOBAL Ministres '!T146 -> 800 | H40: ='GLOBAL Ministres '!U146 -> -800 | I40: ='GLOBAL Ministres '!V146 -> 0
A41: 899005 | B41: 899005 | D41: 3005 | E41: SPAR | F41: Fonds destiné à la réalisation de programmes particuliers financés par le RTE-T | G41: ='GLOBAL Ministres '!T147 -> 600 | H41: ='GLOBAL Ministres '!U147 -> -600 | I41: ='GLOBAL Ministres '!V147 -> 0
...

Sheet Codes SEC
A1: Groupe | B1: Code SEC = Compte Budgétaire | C1: Libellé | D1: Libellé court (20 caractères) | E1: Libellé long (50 caractères)
A2: 01 | B2: 01.00 | C2: Non ventilé | D2: Non ventilé | E2: Non ventilé | F2: =LEFT(B2,2)&RIGHT(B2,2) -> 0100
A3: 03 | B3: 03.10 | C3: Opérations internes diverses | D3: Opérations internes diverses | E3: Opérations internes diverses | F3: =LEFT(B3,2)&RIGHT(B3,2) -> 0310
B4: 03.20 | C4: Régularisations avec d'autres exercices | D4: Régularisations | E4: Régularisations avec d'autres exercices | F4: =LEFT(B4,2)&RIGHT(B4,2) -> 0320
A5: 04 | B5: 04.00 | C5: Annuités en matière de leasing financiers | D5: Annuités leasings | E5: Annuités en matière de leasings financiers | F5: =LEFT(B5,2)&RIGHT(B5,2) -> 0400
A6: 11 | B6: 11.00 | F6: =LEFT(B6,2)&RIGHT(B6,2) -> 1100
B7: 11.11 | C7: Rémunération suivant les barèmes | D7: Rémunération/barèmes | E7: Rémunération suivant les barèmes | F7: =LEFT(B7,2)&RIGHT(B7,2) -> 1111
B8: 11.12 | C8: Autres éléments de la rémunération | D8: Rémunération/autres | E8: Autres éléments de la rémunération | F8: =LEFT(B8,2)&RIGHT(B8,2) -> 1112
B9: 11.20 | C9: Cotisations sociales à charge des employeurs, versées à des institutions ou fonds | D9: Cotisations sociales | E9: Cotisations sociales versées institutions/fonds | F9: =LEFT(B9,2)&RIGHT(B9,2) -> 1120
B10: 11.31 | C10: Allocations directes | D10: Allocations directes | E10: Allocations directes | F10: =LEFT(B10,2)&RIGHT(B10,2) -> 1131
B11: 11.32 | C11: Paiement maintenu du salaire | D11: Paiement maint sal | E11: Paiement maintenu du salaire | F11: =LEFT(B11,2)&RIGHT(B11,2) -> 112
B12: 11.33 | C12: Pensions du personnel des administrations publiques | D12: Pension du personnel | E12: Pension du personnel des administrations publiques | F12: =LEFT(B12,2)&RIGHT(B12,2) -> 1133
B13: 11.40 | C13: Salaire en nature | D13: Salaire en nature | E13: Salaire en nature | F13: =LEFT(B13,2)&RIGHT(B13,2) -> 1140
A14: 12 | B14: 12.11 | C14: Frais généraux de fonctionnement | D14: Frais de fct-privé | E14: Frais généraux de fonctionnement - secteur privé | F14: =LEFT(B14,2)&RIGHT(B14,2) -> 1211
B15: 12.12 | C15: Locations de bâtiments payés à des secteurs autres que le secteur des administrations publiques | D15: Loc bâtiments-privé | E15: Locations de bâtiments -secteur privé | F15: =LEFT(B15,2)&RIGHT(B15,2) -> 1212
B16: 12.21 | C16: Achats de biens non durables et de services, frais généraux de fonctionnement payés à l'intérieur du secteur des administrations publiques | D16: Frais de fct-public | E16: Frais généraux de fonctionnement -secteur public | F16: =LEFT(B16,2)&RIGHT(B16,2) -> 1221
B17: 12.22 | C17: Locations de bâtiments payés à l'intérieur du secteur des administrations publiques | D17: Loc bâtiments-pub | E17: Locations de bâtiments -secteur public | F17: =LEFT(B17,2)&RIGHT(B17,2) -> 1222
B18: 12.50 | C18: Impôts payés à des sous-secteurs des administrations publiques | D18: Impôts payés-public | E18: Impôts payés sous-secteur public | F18: =LEFT(B18,2)&RIGHT(B18,2) -> 1250
A19: 14 | B19: 14.10 | C19: Réparations et entretien d'ouvrage en matière de travaux routiers et hydrauliques n'augmentant pas la valeur: frais payés à des secteurs autres que le secteur des administrations publiques | D19: Entr VH/routes-privé | E19: Entretien VH et routes-secteur privé | F19: =LEFT(B19,2)&RIGHT(B19,2) -> 1410
B20: 14.20 | C20: Réparations et entretien d'ouvrage en matière de travaux routiers et hydrauliques n'augmentant pas la valeur: frais payés à l'intérieur du secteur des administrations publiques | D20: Entr VH/routes-pub | E20: Entretien VH et routes-secteur public | F20: =LEFT(B20,2)&RIGHT(B20,2) -> 1420
A21: 21 | B21: 21.10 | C21: Charges d'intérêt de la dette publique en euros | D21: Chg î dette publ € | E21: Charges d'intérêt de la dette publique en euros | F21: =LEFT(B21,2)&RIGHT(B21,2) -> 2110
B22: 21.20 | C22: Charges d'intérêt de la dette publique en monnaies étrangères | D22: Chg î dette publ dev | E22: Charges intérêt dette publique monnaies étrangères | F22: =LEFT(B22,2)&RIGHT(B22,2) -> 2120
B23: 21.30 | C23: Charges d'intérêt de la dette à l'intérieur du secteur des administrations publiques | D23: Chg î dette sect pub | E23: Charges d'intérêt de la dette-secteur public | F23: =LEFT(B23,2)&RIGHT(B23,2) -> 2130
B24: 21.40 | C24: Intérêts de la dette commerciale | D24: Î dette commerciale | E24: Intérêts de la dette commerciale | F24: =LEFT(B24,2)&RIGHT(B24,2) -> 2140
B25: 21.50 | C25: Intérêts sur leasings financiers | D25: Intérêts leasings | E25: Intérêts sur leasings financiers | F25: =LEFT(B25,2)&RIGHT(B25,2) -> 2150
B26: 21.60 | C26: Autres intérêts | D26: Autres intérêts | E26: Autres intérêts | F26: =LEFT(B26,2)&RIGHT(B26,2) -> 2160
A27: 24 | B27: 24.10 | C27: Locations de terres : paiements à d'autres secteurs que le secteur des administrations publiques | D27: Loc terres-privé | E27: Locations de terres-secteur privé | F27: =LEFT(B27,2)&RIGHT(B27,2) -> 240
B28: 24.20 | C28: Locations de terres : paiements à l'intérieur du secteur des administations publiques | D28: Loc terres-public | E28: Locations de terres-secteur public | F28: =LEFT(B28,2)&RIGHT(B28,2) -> 2420
A29: 25 | B29: 25.00 | C29: Dividendes distribués | D29: Dividendes distri. | E29: Dividendes distribués | F29: =LEFT(B29,2)&RIGHT(B29,2) -> 2500
A30: 31 | B30: 31.11 | C30: Subventions d'exploitation réduisant les intérêts aux entreprises publiques | D30: Subv red î-entr pub | E30: Subv expl réduisant les intérêts - entr publiques | F30: =LEFT(B30,2)&RIGHT(B30,2) -> 3111
B31: 31.12 | C31: Subventions d'exploitation réduisant les intérêts aux autres entreprises | D31: Subv red î-entr pri | E31: Subv expl réduisant les intérêts - autres entr | F31: =LEFT(B31,2)&RIGHT(B31,2) -> 3112
B32: 31.21 | C32: Subventions d'exploitation en matière de prix aux entreprises publiques | D32: Subv prix-entr pub | E32: Subv expl en matière prix - entreprises publiques | F32: =LEFT(B32,2)&RIGHT(B32,2) -> 3121
B33: 31.22 | C33: Autres subventions d'exploitation aux entreprises publiques | D33: Ô subv expl-entr pub | E33: Autres subv exploitation - entreprises publiques | F33: 3122
B34: 31.31 | C34: Subventions d'exploitation en matière de prix à des producteurs autres que les entreprises publiques | D34: Subv prix-privé | E34: Subv exploitation en matière de prix - privé | F34: =LEFT(B34,2)&RIGHT(B34,2) -> 3131
B35: 31.32 | C35: Autres subventions d'exploitation à des producteurs autres que les entreprises publiques | D35: Ô subv expl-privé | E35: Autres subventions d'exploitation - privé | F35: =LEFT(B35,2)&RIGHT(B35,2) -> 3132
B36: 31.40 | C36: Réduction de cotisations patronales ciblées | D36: Subv réd cot patron | E36: Subv réduction de cotisations patronales ciblées | F36: =LEFT(B36,2)&RIGHT(B36,2) -> 3140
A37: 32 | B37: 32.00 | C37: Transferts de revenus, autres que des subventions d'exploitation, aux entreprises et institutions financières | D37: TR ô subv expl-privé | E37: Transferts de revenus autres subv expl privé | F37: =LEFT(B37,2)&RIGHT(B37,2) -> 3200
A38: 33 | B38: 33.00 | C38: Transferts de revenus aux ASBL au service des ménages | D38: TR ASBL serv ménages | E38: Transferts de revenus aux ASBL service des ménages | F38: =LEFT(B38,2)&RIGHT(B38,2) -> 3300
A39: 34 | B39: 34.10 | C39: Pensions de veuves et orphelins du personnel des administrations publiques | D39: Pension Vve/orph-pub | E39: Pension veuves/orphelins-administrations publiques | F39: =LEFT(B39,2)&RIGHT(B39,2) -> 3410
B40: 34.20 | C40: Pensions de guerre | D40: Pensions de guerre | E40: Pensions de guerre | F40: =LEFT(B40,2)&RIGHT(B40,2) -> 3420
...
